Workbook
Name benefitburden: '3 Personnel Expenses'!$N$56
Name orgname: '1 Names'!$A$2
Name taxburden: '3 Personnel Expenses'!$J$56
Name version: '1 Names'!$G$2
Name Year: '1 Names'!$A$4

Sheet Instructions
C2: Budget Template Instructions
C3: These instructions are a companion piece to the TREC Budget Template and the set of instructional videos that walk you through how to use the budget template. All these resources can be found on TREC’s Resource Library.
C5: Overview
C6: Your budget is one of your organization’s most strategic tools. It’s the numerical version of your annual operating plan and brings clarity and definition to your strategy. A proper budget allows you to plan for the long term sustainability of your organization. This robust budget template allows you to track revenue and expenses for each cost center (individual programs, admin and fundraising). Knowing which programs are solvent is critical to making careful and strategic programmatic decisions. By using time allocation of personnel, you’re able to spread shared operating costs across programs,giving you a much more exact estimate of your actual costs per program. This budgeting template is a set of worksheets that we will do in a progression. Don’t worry if it looks complex; we will walk you through it step-by-step.
C8: Master Sheet and Guidelines
C9: Once you open the budget template Excel document, you’ll see that it contains various sheets. The first sheet is the Master Sheet. This is your final product: your annual budget. All the information on the Master is populated from data you fill in on the other worksheets. The only exception is that you need to enter the previous fiscal year totals on the master sheet. Feel free to delete the TREC logo and add your own.
C11: Master Sheet
C12: Once you open the budget template Excel document, you’ll see that it contains various sheets. The first sheet is the Master Sheet. This is your final product: your annual budget. All the information on the Master is populated from data you fill in on the other worksheets. The only exception is that you need to enter the previous fiscal year totals on the master sheet. Feel free to delete the TREC logo and add your own.
C13: Do the Sheets in Order
C14: Start with the Naming Sheet. As you’ll see the following sheets only work once data is filled out in the previous sheets.
C15: Only Enter in Green Cells
C16: ONLY modify, enter data into, or delete cells that have green fill with blue text.
... C56: If you come across any issues with the budgeting process, or need further assistance please don’t hesitate to contact us. It is our mission at TREC to provide you with the tools and expertise that you need. We welcome your questions and feedback!
C61: This work is licensed under a Creative Commons Attribution 4.0 International License. | D61: | trec.org

Sheet Master
A1: Budget - Master
B2: =orgname -> Organization Name | I2: ='1 Names'!G2 -> ver 1: date and initials | R2: printed | S2: =TODAY() -> 44464 | T2: =NOW() -> 44464.388
B3: Master Proposed Budget by Project & Function
B4: =Year -> Fiscal Year ______
U5: Error Checking shows "-" unless error is made/ or formula is changed
F7: memo: | H7: <---------------------------------------------------------- | K7: Projects | L7: ---------------------------------------------------------> | R7: <--------------- | S7: Functions | T7: --------------->
A8: Do not enter data on this sheet. Enter data on worksheets in order.* | F8: Previous FY Actuals | G8: Proposed Budget | H8: ='1 Names'!E6 -> Program 1 | I8: ='1 Names'!F6 -> Program 2 | J8: ='1 Names'!G6 -> Program 3 | K8: ='1 Names'!H6 -> Program 4 | L8: ='1 Names'!I6 -> Program 5 | M8: ='1 Names'!J6 -> extra 1 | N8: ='1 Names'!K6 -> extra 2 | O8: ='1 Names'!L6 -> extra 3 | ... Q8: ='1 Names'!N6 -> extra 5 | R8: Total Program | S8: ='1 Names'!O6 -> Fund Raising & Unrestricted Income | T8: ='1 Names'!P6 -> Admin (Mgt & Gen) | U8: error checking | V8: error checking
F9: (A) | G9: (B) | H9: (C) | I9: (D) | J9: (E) | K9: (F) | L9: (G) | M9: (H) | N9: (I) | O9: (I) | P9: (I) | Q9: (I) | R9: (J) | S9: (K) | T9: (L)
A10: 1 | B10: Income | R10: =SUM(H10:N10) -> 0
A11: 2 | C11: ='1 Names'!B8 -> Foundation Grants | G11: =SUM(R11:T11) -> 225000 | H11: ='2 Income'!F27 -> 100000 | I11: ='2 Income'!G27 -> 0 | J11: ='2 Income'!H27 -> 35000 | K11: ='2 Income'!I27 -> 80000 | L11: ='2 Income'!J27 -> 10000 | M11: ='2 Income'!K27 -> 0 | N11: ='2 Income'!L27 -> 0 | O11: ='2 Income'!M27 -> 0 | ... Q11: ='2 Income'!O27 -> 0 | R11: =SUM(H11:Q11) -> 225000 | S11: ='2 Income'!Q27 -> 0 | T11: ='2 Income'!R27 -> 0 | U11: =G11-SUM(R11:T11)+SUM(H11:Q11)-R11 -> 0 | V11: =G11-'2 Income'!E27 -> 0
A12: 3 | C12: ='1 Names'!B9 -> Individual Contributions | G12: =SUM(R12:T12) -> 325000 | H12: ='2 Income'!F45 -> 75000 | I12: ='2 Income'!G45 -> 25000 | J12: ='2 Income'!H45 -> 0 | K12: ='2 Income'!I45 -> 0 | L12: ='2 Income'!J45 -> 0 | M12: ='2 Income'!K45 -> 0 | N12: ='2 Income'!L45 -> 0 | O12: ='2 Income'!M45 -> 0 | ... Q12: ='2 Income'!O45 -> 0 | R12: =SUM(H12:Q12) -> 100000 | S12: ='2 Income'!Q45 -> 225000 | T12: ='2 Income'!R45 -> 0 | U12: =G12-SUM(R12:T12)+SUM(H12:Q12)-R12 -> 0 | V12: =G12-'2 Income'!E45 -> 0
A13: 4 | C13: ='1 Names'!B10 -> Earned Income | F13: 0 | G13: =SUM(R13:T13) -> 0 | H13: ='2 Income'!F56 -> 0 | I13: ='2 Income'!G56 -> 0 | J13: ='2 Income'!H56 -> 0 | K13: ='2 Income'!I56 -> 0 | L13: ='2 Income'!J56 -> 0 | M13: ='2 Income'!K56 -> 0 | N13: ='2 Income'!L56 -> 0 | O13: ='2 Income'!M56 -> 0 | ... Q13: ='2 Income'!O56 -> 0 | R13: =SUM(H13:Q13) -> 0 | S13: ='2 Income'!Q56 -> 0 | T13: ='2 Income'!R56 -> 0 | U13: =G13-SUM(R13:T13)+SUM(H13:Q13)-R13 -> 0 | V13: =G13-'2 Income'!E56 -> 0
A14: 5 | C14: ='1 Names'!B11 -> Other Income | F14: 0 | G14: =SUM(R14:T14) -> 0 | H14: ='2 Income'!F67 -> 0 | I14: ='2 Income'!G67 -> 0 | J14: ='2 Income'!H67 -> 0 | K14: ='2 Income'!I67 -> 0 | L14: ='2 Income'!J67 -> 0 | M14: ='2 Income'!K67 -> 0 | N14: ='2 Income'!L67 -> 0 | O14: ='2 Income'!M67 -> 0 | ... Q14: ='2 Income'!O67 -> 0 | R14: =SUM(H14:Q14) -> 0 | S14: ='2 Income'!Q67 -> 0 | T14: ='2 Income'!R67 -> 0 | U14: =G14-SUM(R14:T14)+SUM(H14:Q14)-R14 -> 0 | V14: =G14-'2 Income'!E67 -> 0
A15: 9 | C15: ='1 Names'!B12 -> Interest | F15: 0 | G15: =SUM(R15:T15) -> 0 | H15: ='2 Income'!F78 -> 0 | I15: ='2 Income'!G78 -> 0 | J15: ='2 Income'!H78 -> 0 | K15: ='2 Income'!I78 -> 0 | L15: ='2 Income'!J78 -> 0 | M15: ='2 Income'!K78 -> 0 | N15: ='2 Income'!L78 -> 0 | O15: ='2 Income'!M78 -> 0 | ... Q15: ='2 Income'!O78 -> 0 | R15: =SUM(H15:Q15) -> 0 | S15: ='2 Income'!Q78 -> 0 | T15: ='2 Income'!R78 -> 0 | U15: =G15-SUM(R15:T15)+SUM(H15:Q15)-R15 -> 0 | V15: =G15-'2 Income'!E78 -> 0
A16: 9 | C16: ='1 Names'!B13 -> extra 1 | F16: 0 | G16: =SUM(R16:T16) -> 0 | H16: ='2 Income'!F89 -> 0 | I16: ='2 Income'!G89 -> 0 | J16: ='2 Income'!H89 -> 0 | K16: ='2 Income'!I89 -> 0 | L16: ='2 Income'!J89 -> 0 | M16: ='2 Income'!K89 -> 0 | N16: ='2 Income'!L89 -> 0 | O16: ='2 Income'!M89 -> 0 | ... Q16: ='2 Income'!O89 -> 0 | R16: =SUM(H16:Q16) -> 0 | S16: ='2 Income'!Q89 -> 0 | T16: ='2 Income'!R89 -> 0 | U16: =G16-SUM(R16:T16)+SUM(H16:Q16)-R16 -> 0 | V16: =G16-'2 Income'!E89 -> 0
A17: 9 | C17: ='1 Names'!B14 -> extra 2 | F17: 0 | G17: =SUM(R17:T17) -> 0 | H17: ='2 Income'!F100 -> 0 | I17: ='2 Income'!G100 -> 0 | J17: ='2 Income'!H100 -> 0 | K17: ='2 Income'!I100 -> 0 | L17: ='2 Income'!J100 -> 0 | M17: ='2 Income'!K100 -> 0 | N17: ='2 Income'!L100 -> 0 | O17: ='2 Income'!M100 -> 0 | ... Q17: ='2 Income'!O100 -> 0 | R17: =SUM(H17:Q17) -> 0 | S17: ='2 Income'!Q100 -> 0 | T17: ='2 Income'!R100 -> 0 | U17: =G17-SUM(R17:T17)+SUM(H17:Q17)-R17 -> 0 | V17: =G17-'2 Income'!E100 -> 0
A18: 9 | C18: ='1 Names'!B15 -> extra 3 | F18: 0 | G18: =SUM(R18:T18) -> 0 | H18: ='2 Income'!F111 -> 0 | I18: ='2 Income'!G111 -> 0 | J18: ='2 Income'!H111 -> 0 | K18: ='2 Income'!I111 -> 0 | L18: ='2 Income'!J111 -> 0 | M18: ='2 Income'!K111 -> 0 | N18: ='2 Income'!L111 -> 0 | O18: ='2 Income'!M111 -> 0 | ... Q18: ='2 Income'!O111 -> 0 | R18: =SUM(H18:Q18) -> 0 | S18: ='2 Income'!Q111 -> 0 | T18: ='2 Income'!R111 -> 0 | U18: =G18-SUM(R18:T18)+SUM(H18:Q18)-R18 -> 0 | V18: =G18-'2 Income'!E111 -> 0
A19: 9 | C19: ='1 Names'!B16 -> extra 4 | F19: 0 | G19: =SUM(R19:T19) -> 0 | H19: ='2 Income'!F122 -> 0 | I19: ='2 Income'!G122 -> 0 | J19: ='2 Income'!H122 -> 0 | K19: ='2 Income'!I122 -> 0 | L19: ='2 Income'!J122 -> 0 | M19: ='2 Income'!K122 -> 0 | N19: ='2 Income'!L122 -> 0 | O19: ='2 Income'!M122 -> 0 | ... Q19: ='2 Income'!O122 -> 0 | R19: =SUM(H19:Q19) -> 0 | S19: ='2 Income'!Q122 -> 0 | T19: ='2 Income'!R122 -> 0 | U19: =G19-SUM(R19:T19)+SUM(H19:Q19)-R19 -> 0 | V19: =G19-'2 Income'!E122 -> 0
A20: 10 | B20: Total Income | F20: =SUM(F10:F15) -> 0 | G20: =SUM(G10:G19) -> 550000 | H20: =SUM(H10:H19) -> 175000 | I20: =SUM(I10:I19) -> 25000 | J20: =SUM(J10:J19) -> 35000 | K20: =SUM(K10:K19) -> 80000 | L20: =SUM(L10:L19) -> 10000 | M20: =SUM(M10:M19) -> 0 | N20: =SUM(N10:N19) -> 0 | ... Q20: =SUM(Q10:Q19) -> 0 | R20: =SUM(H20:Q20) -> 325000 | S20: =SUM(S10:S19) -> 225000 | T20: =SUM(T10:T19) -> 0 | U20: =G20-SUM(R20:T20)+SUM(H20:Q20)-R20 -> 0 | V20: =G20-'2 Income'!E125 -> 0
A21: 11 | U21: =G21-SUM(R21:T21)+SUM(H21:Q21)-R21 -> 0
A22: 12 | B22: Expense | U22: =G22-SUM(R22:T22)+SUM(H22:Q22)-R22 -> 0
A23: 13 | C23: Personnel Expenses | U23: =G23-SUM(R23:T23)+SUM(H23:Q23)-R23 -> 0
A24: 14 | D24: ='1 Names'!C21 -> Payroll | G24: =SUM(R24:T24) -> 77500 | H24: ='4 Payroll Allocation'!F174 -> 19375 | I24: ='4 Payroll Allocation'!G174 -> 7750 | J24: ='4 Payroll Allocation'!H174 -> 15500 | K24: ='4 Payroll Allocation'!I174 -> 19375 | L24: ='4 Payroll Allocation'!J174 -> 3875 | M24: ='4 Payroll Allocation'!K174 -> 0 | N24: ='4 Payroll Allocation'!L174 -> 0 | O24: ='4 Payroll Allocation'!M174 -> 0 | ... Q24: ='4 Payroll Allocation'!O174 -> 0 | R24: =SUM(H24:Q24) -> 65875 | S24: ='4 Payroll Allocation'!Q174 -> 7750 | T24: ='4 Payroll Allocation'!R174 -> 3875 | U24: =G24-SUM(R24:T24)+SUM(H24:Q24)-R24 -> 0 | V24: =G24-'4 Payroll Allocation'!E174 -> 0
A25: 15 | D25: ='1 Names'!C22 -> Payroll tax & work comp | G25: =SUM(R25:T25) -> 6480 | H25: ='4 Payroll Allocation'!F176 -> 1620 | I25: ='4 Payroll Allocation'!G176 -> 648 | J25: ='4 Payroll Allocation'!H176 -> 1296 | K25: ='4 Payroll Allocation'!I176 -> 1620 | L25: ='4 Payroll Allocation'!J176 -> 324 | M25: ='4 Payroll Allocation'!K176 -> 0 | N25: ='4 Payroll Allocation'!L176 -> 0 | O25: ='4 Payroll Allocation'!M176 -> 0 | ... Q25: ='4 Payroll Allocation'!O176 -> 0 | R25: =SUM(H25:Q25) -> 5508 | S25: ='4 Payroll Allocation'!Q176 -> 648 | T25: ='4 Payroll Allocation'!R176 -> 324 | U25: =G25-SUM(R25:T25)+SUM(H25:Q25)-R25 -> 0 | V25: =G25-'4 Payroll Allocation'!E176 -> 0
A26: 16 | D26: ='1 Names'!C23 -> Benefits | G26: =SUM(R26:T26) -> 0 | H26: ='4 Payroll Allocation'!F178 -> 0 | I26: ='4 Payroll Allocation'!G178 -> 0 | J26: ='4 Payroll Allocation'!H178 -> 0 | K26: ='4 Payroll Allocation'!I178 -> 0 | L26: ='4 Payroll Allocation'!J178 -> 0 | M26: ='4 Payroll Allocation'!K178 -> 0 | N26: ='4 Payroll Allocation'!L178 -> 0 | O26: ='4 Payroll Allocation'!M178 -> 0 | ... Q26: ='4 Payroll Allocation'!O178 -> 0 | R26: =SUM(H26:Q26) -> 0 | S26: ='4 Payroll Allocation'!Q178 -> 0 | T26: ='4 Payroll Allocation'!R178 -> 0 | U26: =G26-SUM(R26:T26)+SUM(H26:Q26)-R26 -> 0 | V26: =G26-'4 Payroll Allocation'!E178 -> 0
A27: 17 | C27: Personnel Expenses | F27: =SUM(F23:F26) -> 0 | G27: =SUM(G23:G26) -> 83980 | H27: =SUM(H23:H26) -> 20995 | I27: =SUM(I23:I26) -> 8398 | J27: =SUM(J23:J26) -> 16796 | K27: =SUM(K23:K26) -> 20995 | L27: =SUM(L23:L26) -> 4199 | M27: =SUM(M23:M26) -> 0 | ... Q27: =SUM(Q23:Q26) -> 0 | R27: =SUM(H27:Q27) -> 71383 | S27: =SUM(S23:S26) -> 8398 | T27: =SUM(T23:T26) -> 4199 | U27: =G27-SUM(R27:T27)+SUM(H27:Q27)-R27 -> 0 | V27: =G27-'4 Payroll Allocation'!E180 -> 0
A28: 18
A29: 19 | C29: Project-specific Expenses
A30: 20 | D30: ='1 Names'!C27 -> Conferences | G30: =SUM(R30:T30) -> 2000 | H30: ='5 Project Specific'!F20 -> 1000 | I30: ='5 Project Specific'!G20 -> 1000 | J30: ='5 Project Specific'!H20 -> 0 | K30: ='5 Project Specific'!I20 -> 0 | L30: ='5 Project Specific'!J20 -> 0 | M30: ='5 Project Specific'!K20 -> 0 | N30: ='5 Project Specific'!L20 -> 0 | O30: ='5 Project Specific'!M20 -> 0 | ... Q30: ='5 Project Specific'!O20 -> 0 | R30: =SUM(H30:Q30) -> 2000 | S30: ='5 Project Specific'!Q20 -> 0 | T30: ='5 Project Specific'!R20 -> 0 | U30: =G30-SUM(R30:T30)+SUM(H30:Q30)-R30 -> 0 | V30: ='5 Project Specific'!E20-G30 -> 0
A31: 21 | D31: ='1 Names'!C28 -> Travel | G31: =SUM(R31:T31) -> 0 | H31: ='5 Project Specific'!F32 -> 0 | I31: ='5 Project Specific'!G32 -> 0 | J31: ='5 Project Specific'!H32 -> 0 | K31: ='5 Project Specific'!I32 -> 0 | L31: ='5 Project Specific'!J32 -> 0 | M31: ='5 Project Specific'!K32 -> 0 | N31: ='5 Project Specific'!L32 -> 0 | O31: ='5 Project Specific'!M32 -> 0 | ... Q31: ='5 Project Specific'!O32 -> 0 | R31: =SUM(H31:Q31) -> 0 | S31: ='5 Project Specific'!Q32 -> 0 | T31: ='5 Project Specific'!R32 -> 0 | U31: =G31-SUM(R31:T31)+SUM(H31:Q31)-R31 -> 0 | V31: ='5 Project Specific'!E32-G31 -> 0
A32: 22 | D32: ='1 Names'!C29 -> Supplies | G32: =SUM(R32:T32) -> 0 | H32: ='5 Project Specific'!F50 -> 0 | I32: ='5 Project Specific'!G50 -> 0 | J32: ='5 Project Specific'!H50 -> 0 | K32: ='5 Project Specific'!I50 -> 0 | L32: ='5 Project Specific'!J50 -> 0 | M32: ='5 Project Specific'!K50 -> 0 | N32: ='5 Project Specific'!L50 -> 0 | O32: ='5 Project Specific'!M50 -> 0 | ... Q32: ='5 Project Specific'!O50 -> 0 | R32: =SUM(H32:Q32) -> 0 | S32: ='5 Project Specific'!Q50 -> 0 | T32: ='5 Project Specific'!R50 -> 0 | U32: =G32-SUM(R32:T32)+SUM(H32:Q32)-R32 -> 0 | V32: ='5 Project Specific'!E50-G32 -> 0
A33: 23 | D33: ='1 Names'!C30 -> Telecommunications | G33: =SUM(R33:T33) -> 0 | H33: ='5 Project Specific'!F63 -> 0 | I33: ='5 Project Specific'!G63 -> 0 | J33: ='5 Project Specific'!H63 -> 0 | K33: ='5 Project Specific'!I63 -> 0 | L33: ='5 Project Specific'!J63 -> 0 | M33: ='5 Project Specific'!K63 -> 0 | N33: ='5 Project Specific'!L63 -> 0 | O33: ='5 Project Specific'!M63 -> 0 | ... Q33: ='5 Project Specific'!O63 -> 0 | R33: =SUM(H33:Q33) -> 0 | S33: ='5 Project Specific'!Q63 -> 0 | T33: ='5 Project Specific'!R63 -> 0 | U33: =G33-SUM(R33:T33)+SUM(H33:Q33)-R33 -> 0 | V33: ='5 Project Specific'!E63-G33 -> 0
A34: 24 | D34: ='1 Names'!C31 -> Contract Help | G34: =SUM(R34:T34) -> 0 | H34: ='5 Project Specific'!F73 -> 0 | I34: ='5 Project Specific'!G73 -> 0 | J34: ='5 Project Specific'!H73 -> 0 | K34: ='5 Project Specific'!I73 -> 0 | L34: ='5 Project Specific'!J73 -> 0 | M34: ='5 Project Specific'!K73 -> 0 | N34: ='5 Project Specific'!L73 -> 0 | O34: ='5 Project Specific'!M73 -> 0 | ... Q34: ='5 Project Specific'!O73 -> 0 | R34: =SUM(H34:Q34) -> 0 | S34: ='5 Project Specific'!Q73 -> 0 | T34: ='5 Project Specific'!R73 -> 0 | U34: =G34-SUM(R34:T34)+SUM(H34:Q34)-R34 -> 0 | V34: ='5 Project Specific'!E73-G34 -> 0
A35: 25 | D35: ='1 Names'!C32 -> Media | G35: =SUM(R35:T35) -> 0 | H35: ='5 Project Specific'!F82 -> 0 | I35: ='5 Project Specific'!G82 -> 0 | J35: ='5 Project Specific'!H82 -> 0 | K35: ='5 Project Specific'!I82 -> 0 | L35: ='5 Project Specific'!J82 -> 0 | M35: ='5 Project Specific'!K82 -> 0 | N35: ='5 Project Specific'!L82 -> 0 | O35: ='5 Project Specific'!M82 -> 0 | ... Q35: ='5 Project Specific'!O82 -> 0 | R35: =SUM(H35:Q35) -> 0 | S35: ='5 Project Specific'!Q82 -> 0 | T35: ='5 Project Specific'!R82 -> 0 | U35: =G35-SUM(R35:T35)+SUM(H35:Q35)-R35 -> 0 | V35: ='5 Project Specific'!E82-G35 -> 0
A36: 26 | D36: ='1 Names'!C33 -> Communications | G36: =SUM(R36:T36) -> 0 | H36: ='5 Project Specific'!F94 -> 0 | I36: ='5 Project Specific'!G94 -> 0 | J36: ='5 Project Specific'!H94 -> 0 | K36: ='5 Project Specific'!I94 -> 0 | L36: ='5 Project Specific'!J94 -> 0 | M36: ='5 Project Specific'!K94 -> 0 | N36: ='5 Project Specific'!L94 -> 0 | O36: ='5 Project Specific'!M94 -> 0 | ... Q36: ='5 Project Specific'!O94 -> 0 | R36: =SUM(H36:Q36) -> 0 | S36: ='5 Project Specific'!Q94 -> 0 | T36: ='5 Project Specific'!R94 -> 0 | U36: =G36-SUM(R36:T36)+SUM(H36:Q36)-R36 -> 0 | V36: ='5 Project Specific'!E94-G36 -> 0
A37: 22 | D37: ='1 Names'!C34 -> Extra 1 | G37: =SUM(R37:T37) -> 0 | H37: ='5 Project Specific'!F106 -> 0 | I37: ='5 Project Specific'!G106 -> 0 | J37: ='5 Project Specific'!H106 -> 0 | K37: ='5 Project Specific'!I106 -> 0 | L37: ='5 Project Specific'!J106 -> 0 | M37: ='5 Project Specific'!K106 -> 0 | N37: ='5 Project Specific'!L106 -> 0 | O37: ='5 Project Specific'!M106 -> 0 | ... Q37: ='5 Project Specific'!O106 -> 0 | R37: =SUM(H37:Q37) -> 0 | S37: ='5 Project Specific'!Q106 -> 0 | T37: ='5 Project Specific'!R106 -> 0 | U37: =G37-SUM(R37:T37)+SUM(H37:Q37)-R37 -> 0 | V37: =G37-'5 Project Specific'!E106 -> 0
A38: 23 | D38: ='1 Names'!C35 -> Extra 2 | G38: =SUM(R38:T38) -> 0 | H38: ='5 Project Specific'!F118 -> 0 | I38: ='5 Project Specific'!G118 -> 0 | J38: ='5 Project Specific'!H118 -> 0 | K38: ='5 Project Specific'!I118 -> 0 | L38: ='5 Project Specific'!J118 -> 0 | M38: ='5 Project Specific'!K118 -> 0 | N38: ='5 Project Specific'!L118 -> 0 | O38: ='5 Project Specific'!M118 -> 0 | ... Q38: ='5 Project Specific'!O118 -> 0 | R38: =SUM(H38:Q38) -> 0 | S38: ='5 Project Specific'!Q118 -> 0 | T38: ='5 Project Specific'!R118 -> 0 | U38: =G38-SUM(R38:T38)+SUM(H38:Q38)-R38 -> 0 | V38: =G38-'5 Project Specific'!E118 -> 0
A39: 24 | D39: ='1 Names'!C36 -> Extra 3 | G39: =SUM(R39:T39) -> 0 | H39: ='5 Project Specific'!F130 -> 0 | I39: ='5 Project Specific'!G130 -> 0 | J39: ='5 Project Specific'!H130 -> 0 | K39: ='5 Project Specific'!I130 -> 0 | L39: ='5 Project Specific'!J130 -> 0 | M39: ='5 Project Specific'!K130 -> 0 | N39: ='5 Project Specific'!L130 -> 0 | O39: ='5 Project Specific'!M130 -> 0 | ... Q39: ='5 Project Specific'!O130 -> 0 | R39: =SUM(H39:Q39) -> 0 | S39: ='5 Project Specific'!Q130 -> 0 | T39: ='5 Project Specific'!R130 -> 0 | U39: =G39-SUM(R39:T39)+SUM(H39:Q39)-R39 -> 0 | V39: =G39-'5 Project Specific'!E130 -> 0
A40: 25 | D40: ='1 Names'!C37 -> Extra 4 | G40: =SUM(R40:T40) -> 0 | H40: ='5 Project Specific'!F142 -> 0 | I40: ='5 Project Specific'!G142 -> 0 | J40: ='5 Project Specific'!H142 -> 0 | K40: ='5 Project Specific'!I142 -> 0 | L40: ='5 Project Specific'!J142 -> 0 | M40: ='5 Project Specific'!K142 -> 0 | N40: ='5 Project Specific'!L142 -> 0 | O40: ='5 Project Specific'!M142 -> 0 | ... Q40: ='5 Project Specific'!O142 -> 0 | R40: =SUM(H40:Q40) -> 0 | S40: ='5 Project Specific'!Q142 -> 0 | T40: ='5 Project Specific'!R142 -> 0 | U40: =G40-SUM(R40:T40)+SUM(H40:Q40)-R40 -> 0 | V40: =G40-'5 Project Specific'!E142 -> 0
A41: 26 | D41: ='1 Names'!C38 -> Extra 5 | G41: =SUM(R41:T41) -> 0 | H41: ='5 Project Specific'!F154 -> 0 | I41: ='5 Project Specific'!G154 -> 0 | J41: ='5 Project Specific'!H154 -> 0 | K41: ='5 Project Specific'!I154 -> 0 | L41: ='5 Project Specific'!J154 -> 0 | M41: ='5 Project Specific'!K154 -> 0 | N41: ='5 Project Specific'!L154 -> 0 | O41: ='5 Project Specific'!M154 -> 0 | ... Q41: ='5 Project Specific'!O154 -> 0 | R41: =SUM(H41:Q41) -> 0 | S41: ='5 Project Specific'!Q154 -> 0 | T41: ='5 Project Specific'!R154 -> 0 | U41: =G41-SUM(R41:T41)+SUM(H41:Q41)-R41 -> 0 | V41: =G41-'5 Project Specific'!E154 -> 0
...

Sheet 1 Names
A1: Budget - Names
A2: Organization Name | G2: ver 1: date and initials | J2: printed | K2: =TODAY() -> 44464 | O2: =NOW() -> 44464.388
A3: Budget Worksheet - Cost Center and Line Names
A4: Fiscal Year ______
J5: COST CENTERS
A6: LINE ITEMS | E6: Program 1 | F6: Program 2 | G6: Program 3 | H6: Program 4 | I6: Program 5 | J6: extra 1 | K6: extra 2 | L6: extra 3 | M6: extra 4 | N6: extra 5 | O6: Fund Raising & Unrestricted Income | P6: Admin (Mgt & Gen)
A7: Income
B8: Foundation Grants
B9: Individual Contributions
B10: Earned Income
B11: Other Income | G11: This is the schedule where we change names, version numbers, etc. Work to fill in the appropriate income and expense account names.
B12: Interest | G12: When identifying income and expense account names, please communicate closely with whoever is doing
B13: extra 1 | G13: the accounting - important to talk it through from various perspectives and make sure everyone
B14: extra 2 | G14: is using the same accounts.
B15: extra 3 | H15: Fill in Green Cells Only
B16: extra 4
A17: Total Income
A19: Expense
B20: Personnel Expenses
C21: Payroll
C22: Payroll tax & work comp
C23: Benefits
B24: Personnel Expenses
B26: Project-specific Expenses
C27: Conferences
C28: Travel
C29: Supplies
C30: Telecommunications
C31: Contract Help
C32: Media
C33: Communications
C34: Extra 1
C35: Extra 2
C36: Extra 3
C37: Extra 4
C38: Extra 5
B39: Project-specific Expenses
B41: Shared Operating Expenses
C42: Rent
C43: Utilities
...

Sheet 2 Income
A1: Budget - Income
A2: =orgname -> Organization Name | E2: ='1 Names'!G2 -> ver 1: date and initials | P2: printed | Q2: =TODAY() -> 44464 | R2: =NOW() -> 44464.388 | S2: Error Checking shows "-" unless error is made/ or formula is changed
A3: =Year -> Fiscal Year ______ | G3: Fill in Green Cells Only
A4: Income Detail
D5: memo: | E5: TOTAL | F5: <---------------------------------------------------------- | I5: Projects | J5: ------------------------------------------------------> | P5: <--------------- | Q5: Functions | R5: --------------->
A6: G/L Acct # | C6: Line Item Definition / Planning | F6: ='1 Names'!E6 -> Program 1 | G6: ='1 Names'!F6 -> Program 2 | H6: ='1 Names'!G6 -> Program 3 | I6: ='1 Names'!H6 -> Program 4 | J6: ='1 Names'!I6 -> Program 5 | K6: ='1 Names'!J6 -> extra 1 | L6: ='1 Names'!K6 -> extra 2 | M6: ='1 Names'!L6 -> extra 3 | ... O6: ='1 Names'!N6 -> extra 5 | P6: Total Program | Q6: ='1 Names'!O6 -> Fund Raising & Unrestricted Income | R6: ='1 Names'!P6 -> Admin (Mgt & Gen) | S6: error checking
E7: (A) | F7: (B) | G7: (C) | H7: (D) | I7: (E) | J7: (F) | K7: (G) | L7: (H) | M7: (H) | N7: (H) | O7: (H) | P7: (I) | Q7: (J) | R7: (K)
B9: ='1 Names'!B8 -> Foundation Grants
C10: Hewlett | E10: =SUM(P10:R10) -> 25000 | F10: 25000 | P10: =SUM(F10:O10) -> 25000 | S10: =E10-SUM(Q10:R10)-SUM(F10:O10) -> 0
C11: Foundation 2 | E11: =SUM(P11:R11) -> 20000 | F11: 20000 | P11: =SUM(F11:O11) -> 20000 | S11: =E11-SUM(Q11:R11)-SUM(F11:O11) -> 0
C12: Foundation 3 | E12: =SUM(P12:R12) -> 40000 | F12: 40000 | P12: =SUM(F12:O12) -> 40000 | S12: =E12-SUM(Q12:R12)-SUM(F12:O12) -> 0
C13: Foundation 4 | E13: =SUM(P13:R13) -> 35000 | H13: 35000 | P13: =SUM(F13:O13) -> 35000 | S13: =E13-SUM(Q13:R13)-SUM(F13:O13) -> 0
C14: Foundation 5 | E14: =SUM(P14:R14) -> 15000 | F14: 15000 | J14: 0 | P14: =SUM(F14:O14) -> 15000 | S14: =E14-SUM(Q14:R14)-SUM(F14:O14) -> 0
C15: Foundation 6 | E15: =SUM(P15:R15) -> 80000 | I15: 80000 | P15: =SUM(F15:O15) -> 80000 | S15: =E15-SUM(Q15:R15)-SUM(F15:O15) -> 0
C16: Restricted grant | E16: =SUM(P16:R16) -> 10000 | J16: 10000 | P16: =SUM(F16:O16) -> 10000 | S16: =E16-SUM(Q16:R16)-SUM(F16:O16) -> 0
E17: =SUM(P17:R17) -> 0 | P17: =SUM(F17:O17) -> 0 | S17: =E17-SUM(Q17:R17)-SUM(F17:O17) -> 0
E18: =SUM(P18:R18) -> 0 | P18: =SUM(F18:O18) -> 0 | S18: =E18-SUM(Q18:R18)-SUM(F18:O18) -> 0
E19: =SUM(P19:R19) -> 0 | P19: =SUM(F19:O19) -> 0 | S19: =E19-SUM(Q19:R19)-SUM(F19:O19) -> 0
E20: =SUM(P20:R20) -> 0 | P20: =SUM(F20:O20) -> 0 | S20: =E20-SUM(Q20:R20)-SUM(F20:O20) -> 0
E21: =SUM(P21:R21) -> 0 | P21: =SUM(F21:O21) -> 0 | S21: =E21-SUM(Q21:R21)-SUM(F21:O21) -> 0
E22: =SUM(P22:R22) -> 0 | P22: =SUM(F22:O22) -> 0 | S22: =E22-SUM(Q22:R22)-SUM(F22:O22) -> 0
E23: =SUM(P23:R23) -> 0 | P23: =SUM(F23:O23) -> 0 | S23: =E23-SUM(Q23:R23)-SUM(F23:O23) -> 0
E24: =SUM(P24:R24) -> 0 | P24: =SUM(F24:O24) -> 0 | S24: =E24-SUM(Q24:R24)-SUM(F24:O24) -> 0
E25: =SUM(P25:R25) -> 0 | P25: =SUM(F25:O25) -> 0 | S25: =E25-SUM(Q25:R25)-SUM(F25:O25) -> 0
D26: ------------ | E26: ------------ | F26: ------------ | G26: ------------ | H26: ------------ | I26: ------------ | J26: ------------ | K26: ------------ | L26: ------------ | M26: ------------ | N26: ------------ | O26: ------------ | P26: =SUM(F26:O26) -> 0 | Q26: ------------ | R26: ------------
C27: =B9 -> Foundation Grants | D27: =SUM(D9:D26) -> 0 | E27: =SUM(E9:E26) -> 225000 | F27: =SUM(F9:F26) -> 100000 | G27: =SUM(G9:G26) -> 0 | H27: =SUM(H9:H26) -> 35000 | I27: =SUM(I9:I26) -> 80000 | J27: =SUM(J9:J26) -> 10000 | K27: =SUM(K9:K26) -> 0 | ... O27: =SUM(O9:O26) -> 0 | P27: =SUM(F27:O27) -> 225000 | Q27: =SUM(Q9:Q26) -> 0 | R27: =SUM(R9:R26) -> 0 | S27: =E27-SUM(Q27:R27)-SUM(F27:O27) -> 0
B29: ='1 Names'!B9 -> Individual Contributions
C30: Monthly donors | E30: =SUM(P30:R30) -> 100000 | F30: 25000 | G30: 25000 | P30: =SUM(F30:O30) -> 50000 | Q30: 50000 | R30: 0 | S30: =E30-SUM(Q30:R30)-SUM(F30:O30) -> 0
C31: Small Gifts | E31: =SUM(P31:R31) -> 75000 | P31: =SUM(F31:O31) -> 0 | Q31: 75000 | R31: 0 | S31: =E31-SUM(Q31:R31)-SUM(F31:O31) -> 0
C32: Major Gifts | E32: =SUM(P32:R32) -> 150000 | F32: 50000 | P32: =SUM(F32:O32) -> 50000 | Q32: 100000 | R32: 0 | S32: =E32-SUM(Q32:R32)-SUM(F32:O32) -> 0
E33: =SUM(P33:R33) -> 0 | P33: =SUM(F33:O33) -> 0 | Q33: 0 | R33: 0 | S33: =E33-SUM(Q33:R33)-SUM(F33:O33) -> 0
E34: =SUM(P34:R34) -> 0 | P34: =SUM(F34:O34) -> 0 | Q34: 0 | R34: 0 | S34: =E34-SUM(Q34:R34)-SUM(F34:O34) -> 0
E35: =SUM(P35:R35) -> 0 | P35: =SUM(F35:O35) -> 0 | Q35: 0 | R35: 0 | S35: =E35-SUM(Q35:R35)-SUM(F35:O35) -> 0
E36: =SUM(P36:R36) -> 0 | P36: =SUM(F36:O36) -> 0 | Q36: 0 | R36: 0 | S36: =E36-SUM(Q36:R36)-SUM(F36:O36) -> 0
E37: =SUM(P37:R37) -> 0 | P37: =SUM(F37:O37) -> 0 | Q37: 0 | R37: 0 | S37: =E37-SUM(Q37:R37)-SUM(F37:O37) -> 0
E38: =SUM(P38:R38) -> 0 | P38: =SUM(F38:O38) -> 0 | Q38: 0 | R38: 0 | S38: =E38-SUM(Q38:R38)-SUM(F38:O38) -> 0
E39: =SUM(P39:R39) -> 0 | P39: =SUM(F39:O39) -> 0 | Q39: 0 | R39: 0 | S39: =E39-SUM(Q39:R39)-SUM(F39:O39) -> 0
E40: =SUM(P40:R40) -> 0 | P40: =SUM(F40:O40) -> 0 | Q40: 0 | R40: 0 | S40: =E40-SUM(Q40:R40)-SUM(F40:O40) -> 0
P41: =SUM(F41:O41) -> 0 | S41: =E41-SUM(Q41:R41)-SUM(F41:O41) -> 0
E42: =SUM(P42:R42) -> 0 | P42: =SUM(F42:O42) -> 0 | Q42: 0 | R42: 0 | S42: =E42-SUM(Q42:R42)-SUM(F42:O42) -> 0
...

Sheet 3 Personnel Expenses
A1: Budget - Personnel Expenses
A2: =orgname -> Organization Name | C2: ='1 Names'!G2 -> ver 1: date and initials | M2: printed | N2: =TODAY() -> 44464 | O2: =NOW() -> 44464.388
A3: =Year -> Fiscal Year ______
A4: Personnel Expenses - Confidential Schedule
D5: Fill in Green Cells Only
A6: SCHEDULE A: PAYROLL PLANNING
A8: FTE | B8: Position | C8: Currently Held by (Name) | D8: Salary Current Year | E8: Wage Current Year | F8: Base Annual Wage Hours | G8: Anticipated OT Hours | H8: Projected Base Pay before Raise | I8: Projected Wage OT Pay | J8: Projected Payroll @ Current Rate | K8: Changes to Payroll | L8: Note on Basis for Change (e.g. "raise x% at Jan1") | M8: Payroll Budget
C10: column: | D10: A | E10: B | F10: C | G10: D | H10: F | I10: G | J10: H | K10: I | L10: J | M10: K
C11: calculation: | H11: A + (CxB) + E | I11: (D x B) x 1.5 + (D x E) x 1.5 | J11: F +G | M11: I + J
D13: Enter either salary or Wage, not both
A14: 1 | B14: Executive Director | C14: Jane Doe | D14: 75000 | H14: =D14+F14*E14 -> 75000 | I14: =(G14*1.5)*E14 -> 0 | J14: =H14+I14 -> 75000 | K14: 2500 | L14: raise %10 jun 1 | M14: =K14+J14 -> 77500
H15: =D15+F15*E15 -> 0 | I15: =(G15*1.5)*E15 -> 0 | J15: =H15+I15 -> 0 | M15: =K15+J15 -> 0
H16: =D16+F16*E16 -> 0 | I16: =(G16*1.5)*E16 -> 0 | J16: =H16+I16 -> 0 | M16: =K16+J16 -> 0
H17: =D17+F17*E17 -> 0 | I17: =(G17*1.5)*E17 -> 0 | J17: =H17+I17 -> 0 | M17: =K17+J17 -> 0
H18: =D18+F18*E18 -> 0 | I18: =(G18*1.5)*E18 -> 0 | J18: =H18+I18 -> 0 | M18: =K18+J18 -> 0
H19: =D19+F19*E19 -> 0 | I19: =(G19*1.5)*E19 -> 0 | J19: =H19+I19 -> 0 | M19: =K19+J19 -> 0
H20: =D20+F20*E20 -> 0 | I20: =(G20*1.5)*E20 -> 0 | J20: =H20+I20 -> 0 | M20: =K20+J20 -> 0
H21: =D21+F21*E21 -> 0 | I21: =(G21*1.5)*E21 -> 0 | J21: =H21+I21 -> 0 | M21: =K21+J21 -> 0
H22: =D22+F22*E22 -> 0 | I22: =(G22*1.5)*E22 -> 0 | J22: =H22+I22 -> 0 | M22: =K22+J22 -> 0
H23: =D23+F23*E23 -> 0 | I23: =(G23*1.5)*E23 -> 0 | J23: =H23+I23 -> 0 | M23: =K23+J23 -> 0
H24: =D24+F24*E24 -> 0 | I24: =(G24*1.5)*E24 -> 0 | J24: =H24+I24 -> 0 | M24: =K24+J24 -> 0
H25: =D25+F25*E25 -> 0 | I25: =(G25*1.5)*E25 -> 0 | J25: =H25+I25 -> 0 | M25: =K25+J25 -> 0
H26: =D26+F26*E26 -> 0 | I26: =(G26*1.5)*E26 -> 0 | J26: =H26+I26 -> 0 | M26: =K26+J26 -> 0
... H28: =D28+F28*E28 -> 0 | I28: =(G28*1.5)*E28 -> 0 | J28: =H28+I28 -> 0 | M28: =K28+J28 -> 0
B29: ---------- | C29: ---------- | D29: ---------- | E29: ---------- | F29: ---------- | G29: ---------- | H29: ---------- | I29: ---------- | J29: ---------- | K29: ---------- | L29: ---------- | M29: ----------
B30: Totals | H30: =SUM(H13:H29) -> 75000 | I30: =SUM(I13:I29) -> 0 | J30: =SUM(J13:J29) -> 75000 | K30: =SUM(K13:K29) -> 2500 | M30: =SUM(M13:M29) -> 77500
L33: Edit the benefits section to match the benefits of your organization. This section should be customized to fit.
F35: Payroll Taxes | L35: Benefits
A36: SCHEDULE B: PAYROLL TAX & BENEFITS PLANNING | D36: =M8 -> Payroll Budget | F36: Employer Soc Sec | G36: Employer Medicare | H36: Employer SUI | I36: WBF Assess | J36: Total Payroll Taxes | L36: monthly benefits incl. disability/life, etc. | M36: Health Insurance | N36: Retirement | O36: Total Benefits
E37: rate | F37: 0.062 | G37: 0.0145 | H37: 0.022 | I37: estimate | N37: 0
E38: ceiling | F38: 118500 | H38: 25000 | L38: 0 | M38: currently 500/ mo
B39: =B14 -> Executive Director | C39: =C14 -> Jane Doe | D39: =ROUND(M14,0) -> 77500 | F39: =IF(F$38>$D39,$D39*F$37,F$38*F$37) -> 4805 | G39: =G$37*D39 -> 1123.75 | H39: =IF(H$38>$D39,$D39*H$37,H$38*H$37) -> 550 | J39: =SUM(F39:I39) -> 6478.75 | L39: =L38*12 -> 0 | M39: 0 | N39: =SUM(D39*N$37) -> 0 | O39: =SUM(L39:M39)+N39 -> 0
B40: =B15 -> 0 | C40: =C15 -> 0 | D40: =ROUND(M15,0) -> 0 | F40: =IF(F$38>$D40,$D40*F$37,F$38*F$37) -> 0 | G40: =G$37*D40 -> 0 | H40: =IF(H$38>$D40,$D40*H$37,H$38*H$37) -> 0 | J40: =SUM(F40:I40) -> 0 | L40: 0 | M40: 0 | N40: =SUM(D40*N$37) -> 0 | O40: =SUM(L40:M40)+N40 -> 0
B41: =B16 -> 0 | C41: =C16 -> 0 | D41: =ROUND(M16,0) -> 0 | F41: =IF(F$38>$D41,$D41*F$37,F$38*F$37) -> 0 | G41: =G$37*D41 -> 0 | H41: =IF(H$38>$D41,$D41*H$37,H$38*H$37) -> 0 | J41: =SUM(F41:I41) -> 0 | L41: 0 | M41: 0 | N41: =SUM(D41*N$37) -> 0 | O41: =SUM(L41:M41)+N41 -> 0
B42: =B17 -> 0 | C42: =C17 -> 0 | D42: =ROUND(M17,0) -> 0 | F42: =IF(F$38>$D42,$D42*F$37,F$38*F$37) -> 0 | G42: =G$37*D42 -> 0 | H42: =IF(H$38>$D42,$D42*H$37,H$38*H$37) -> 0 | J42: =SUM(F42:I42) -> 0 | L42: 0 | M42: 0 | N42: =SUM(D42*N$37) -> 0 | O42: =SUM(L42:M42)+N42 -> 0
B43: =B18 -> 0 | C43: =C18 -> 0 | D43: =ROUND(M18,0) -> 0 | F43: =IF(F$38>$D43,$D43*F$37,F$38*F$37) -> 0 | G43: =G$37*D43 -> 0 | H43: =IF(H$38>$D43,$D43*H$37,H$38*H$37) -> 0 | J43: =SUM(F43:I43) -> 0 | L43: 0 | M43: 0 | N43: =SUM(D43*N$37) -> 0 | O43: =SUM(L43:M43)+N43 -> 0
B44: =B19 -> 0 | C44: =C19 -> 0 | D44: =ROUND(M19,0) -> 0 | F44: =IF(F$38>$D44,$D44*F$37,F$38*F$37) -> 0 | G44: =G$37*D44 -> 0 | H44: =IF(H$38>$D44,$D44*H$37,H$38*H$37) -> 0 | J44: =SUM(F44:I44) -> 0 | L44: 0 | M44: 0 | N44: =SUM(D44*N$37) -> 0 | O44: =SUM(L44:M44)+N44 -> 0
B45: =B20 -> 0 | C45: =C20 -> 0 | D45: =ROUND(M20,0) -> 0 | F45: =IF(F$38>$D45,$D45*F$37,F$38*F$37) -> 0 | G45: =G$37*D45 -> 0 | H45: =IF(H$38>$D45,$D45*H$37,H$38*H$37) -> 0 | J45: =SUM(F45:I45) -> 0 | L45: 0 | M45: 0 | N45: =SUM(D45*N$37) -> 0 | O45: =SUM(L45:M45)+N45 -> 0
B46: =B21 -> 0 | C46: =C21 -> 0 | D46: =ROUND(M21,0) -> 0 | F46: =IF(F$38>$D46,$D46*F$37,F$38*F$37) -> 0 | G46: =G$37*D46 -> 0 | H46: =IF(H$38>$D46,$D46*H$37,H$38*H$37) -> 0 | J46: =SUM(F46:I46) -> 0 | L46: 0 | M46: 0 | N46: =SUM(D$46*N37) -> 0 | O46: =SUM(L46:M46)+N46 -> 0
B47: =B22 -> 0 | C47: =C22 -> 0 | D47: =ROUND(M22,0) -> 0 | F47: =IF(F$38>$D47,$D47*F$37,F$38*F$37) -> 0 | G47: =G$37*D47 -> 0 | H47: =IF(H$38>$D47,$D47*H$37,H$38*H$37) -> 0 | J47: =SUM(F47:I47) -> 0 | L47: 0 | M47: 0 | O47: =SUM(L47:M47)+N47 -> 0
...

Sheet 4 Payroll Allocation
A1: Budget - Payroll Allocation
A2: =orgname -> Organization Name | E2: ='1 Names'!G2 -> ver 1: date and initials | P2: printed | Q2: =TODAY() -> 44464 | R2: =NOW() -> 44464.388
A3: =Year -> Fiscal Year ______ | S3: Error Checking shows "-" unless error is made/ or formula is changed
A4: Payroll Allocation | D4: Fill in Green Cells Only
E6: TOTAL | F6: <---------------------------------------------------------- | I6: Projects | J6: ---------------------------------------------> | P6: <--------------- | Q6: Functions | R6: ------------>
A7: Schedule A: Planned Allocation of Effort by Quarter | F7: ='1 Names'!E6 -> Program 1 | G7: ='1 Names'!F6 -> Program 2 | H7: ='1 Names'!G6 -> Program 3 | I7: ='1 Names'!H6 -> Program 4 | J7: ='1 Names'!I6 -> Program 5 | K7: ='1 Names'!J6 -> extra 1 | L7: ='1 Names'!K6 -> extra 2 | M7: ='1 Names'!L6 -> extra 3 | ... O7: ='1 Names'!N6 -> extra 5 | P7: Total Program | Q7: ='1 Names'!O6 -> Fund Raising & Unrestricted Income | R7: ='1 Names'!P6 -> Admin (Mgt & Gen) | S7: error checking
B8: Position | D8: Currently Held by
B10: ='3 Personnel Expenses'!B14 -> Executive Director | D10: ='3 Personnel Expenses'!C14 -> Jane Doe
B11: Q1 | C11: Jan, Feb, Mar | E11: =SUM(P11:R11) -> 1 | F11: 0.25 | G11: 0.1 | H11: 0.2 | I11: 0.25 | J11: 0.05 | K11: 0 | L11: 0 | M11: 0 | N11: 0 | O11: 0 | P11: =SUM(F11:O11) -> 0.85 | Q11: 0.1 | R11: 0.05 | S11: =1-E11 -> 0
B12: Q2 | C12: Apr, May, Jun | E12: =SUM(P12:R12) -> 1 | F12: 0.25 | G12: 0.1 | H12: 0.2 | I12: 0.25 | J12: 0.05 | K12: 0 | L12: 0 | M12: 0 | N12: 0 | O12: 0 | P12: =SUM(F12:O12) -> 0.85 | Q12: 0.1 | R12: 0.05 | S12: =1-E12 -> 0
B13: Q3 | C13: Jul, Aug, Sep | E13: =SUM(P13:R13) -> 1 | F13: 0.25 | G13: 0.1 | H13: 0.2 | I13: 0.25 | J13: 0.05 | K13: 0 | L13: 0 | M13: 0 | N13: 0 | O13: 0 | P13: =SUM(F13:O13) -> 0.85 | Q13: 0.1 | R13: 0.05 | S13: =1-E13 -> 0
B14: Q4 | C14: Oct, Nov, Dec | E14: =SUM(P14:R14) -> 1 | F14: 0.25 | G14: 0.1 | H14: 0.2 | I14: 0.25 | J14: 0.05 | K14: 0 | L14: 0 | M14: 0 | N14: 0 | O14: 0 | P14: =SUM(F14:O14) -> 0.85 | Q14: 0.1 | R14: 0.05 | S14: =1-E14 -> 0
D15: --------------------------- | E15: ----------- | F15: ----------- | G15: ----------- | H15: ----------- | I15: ----------- | J15: ----------- | K15: ----------- | L15: ----------- | M15: ----------- | N15: ----------- | O15: ----------- | P15: ----------- | Q15: ----------- | R15: -----------
D16: Annual: | E16: =AVERAGE(E11:E14) -> 1 | F16: =SUM(F11:F14)/4 -> 0.25 | G16: =SUM(G11:G14)/4 -> 0.1 | H16: =SUM(H11:H14)/4 -> 0.2 | I16: =SUM(I11:I14)/4 -> 0.25 | J16: =SUM(J11:J14)/4 -> 0.05 | K16: =SUM(K11:K14)/4 -> 0 | L16: =SUM(L11:L14)/4 -> 0 | M16: =SUM(M11:M14)/4 -> 0 | ... R16: =SUM(R11:R14)/4 -> 0.05 | S16: =1-SUM(P16:R16) -> 0
B18: ='3 Personnel Expenses'!B15 -> 0 | D18: ='3 Personnel Expenses'!C15 -> 0
B19: Q1 | C19: Jan, Feb, Mar | E19: =SUM(P19:R19) -> 0 | F19: 0 | G19: 0 | H19: 0 | I19: 0 | J19: 0 | K19: 0 | L19: 0 | M19: 0 | N19: 0 | O19: 0 | P19: =SUM(F19:O19) -> 0 | Q19: 0 | R19: 0 | S19: =1-E19 -> 1
B20: Q2 | C20: Apr, May, Jun | E20: =SUM(P20:R20) -> 0 | F20: 0 | G20: 0 | H20: 0 | I20: 0 | J20: 0 | K20: 0 | L20: 0 | M20: 0 | N20: 0 | O20: 0 | P20: =SUM(F20:O20) -> 0 | Q20: 0 | R20: 0 | S20: =1-E20 -> 1
B21: Q3 | C21: Jul, Aug, Sep | E21: =SUM(P21:R21) -> 0 | F21: 0 | G21: 0 | H21: 0 | I21: 0 | J21: 0 | K21: 0 | L21: 0 | M21: 0 | N21: 0 | O21: 0 | P21: =SUM(F21:O21) -> 0 | Q21: 0 | R21: 0 | S21: =1-E21 -> 1
B22: Q4 | C22: Oct, Nov, Dec | E22: =SUM(P22:R22) -> 0 | F22: 0 | G22: 0 | H22: 0 | I22: 0 | J22: 0 | K22: 0 | L22: 0 | M22: 0 | N22: 0 | O22: 0 | P22: =SUM(F22:O22) -> 0 | Q22: 0 | R22: 0 | S22: =1-E22 -> 1
C23: -------------------------------- | D23: --------------------------- | E23: ----------- | F23: ----------- | G23: ----------- | H23: ----------- | I23: ----------- | J23: ----------- | K23: ----------- | L23: ----------- | M23: ----------- | N23: ----------- | O23: ----------- | P23: ----------- | Q23: ----------- | R23: -----------
D24: Annual: | E24: =AVERAGE(E19:E23) -> 0 | F24: =SUM(F19:F22)/4 -> 0 | G24: =SUM(G19:G22)/4 -> 0 | H24: =SUM(H19:H22)/4 -> 0 | I24: =SUM(I19:I22)/4 -> 0 | J24: =SUM(J19:J22)/4 -> 0 | K24: =SUM(K19:K22)/4 -> 0 | L24: =SUM(L19:L22)/4 -> 0 | M24: =SUM(M19:M22)/4 -> 0 | ... R24: =SUM(R19:R22)/4 -> 0 | S24: =1-SUM(P24:R24) -> 1
B26: ='3 Personnel Expenses'!B16 -> 0 | D26: ='3 Personnel Expenses'!C16 -> 0 | S26: =E26-SUM(Q26:R26)-SUM(F26:L26) -> 0
B27: Q1 | C27: Jan, Feb, Mar | E27: =SUM(P27:R27) -> 0 | F27: 0 | G27: 0 | H27: 0 | I27: 0 | J27: 0 | K27: 0 | L27: 0 | M27: 0 | N27: 0 | O27: 0 | P27: =SUM(F27:O27) -> 0 | Q27: 0 | R27: 0 | S27: =1-E27 -> 1
B28: Q2 | C28: Apr, May, Jun | E28: =SUM(P28:R28) -> 0 | F28: 0 | G28: 0 | H28: 0 | I28: 0 | J28: 0 | K28: 0 | L28: 0 | M28: 0 | N28: 0 | O28: 0 | P28: =SUM(F28:O28) -> 0 | Q28: 0 | R28: 0 | S28: =1-E28 -> 1
B29: Q3 | C29: Jul, Aug, Sep | E29: =SUM(P29:R29) -> 0 | F29: 0 | G29: 0 | H29: 0 | I29: 0 | J29: 0 | K29: 0 | L29: 0 | M29: 0 | N29: 0 | O29: 0 | P29: =SUM(F29:O29) -> 0 | Q29: 0 | R29: 0 | S29: =1-E29 -> 1
B30: Q4 | C30: Oct, Nov, Dec | E30: =SUM(P30:R30) -> 0 | F30: 0 | G30: 0 | H30: 0 | I30: 0 | J30: 0 | K30: 0 | L30: 0 | M30: 0 | N30: 0 | O30: 0 | P30: =SUM(F30:O30) -> 0 | Q30: 0 | R30: 0 | S30: =1-E30 -> 1
C31: -------------------------------- | D31: --------------------------- | E31: ----------- | F31: ----------- | G31: ----------- | H31: ----------- | I31: ----------- | J31: ----------- | K31: ----------- | L31: ----------- | M31: ----------- | N31: ----------- | O31: ----------- | P31: ----------- | Q31: ----------- | R31: -----------
D32: Annual: | E32: =AVERAGE(E27:E31) -> 0 | F32: =SUM(F27:F30)/4 -> 0 | G32: =SUM(G27:G30)/4 -> 0 | H32: =SUM(H27:H30)/4 -> 0 | I32: =SUM(I27:I30)/4 -> 0 | J32: =SUM(J27:J30)/4 -> 0 | K32: =SUM(K27:K30)/4 -> 0 | L32: =SUM(L27:L30)/4 -> 0 | M32: =SUM(M27:M30)/4 -> 0 | ... R32: =SUM(R27:R30)/4 -> 0 | S32: =1-SUM(P32:R32) -> 1
B34: ='3 Personnel Expenses'!B17 -> 0 | D34: ='3 Personnel Expenses'!C17 -> 0 | S34: =E34-SUM(Q34:R34)-SUM(F34:L34) -> 0
B35: Q1 | C35: Jan, Feb, Mar | E35: =SUM(P35:R35) -> 0 | F35: 0 | G35: 0 | H35: 0 | I35: 0 | J35: 0 | K35: 0 | L35: 0 | M35: 0 | N35: 0 | O35: 0 | P35: =SUM(F35:O35) -> 0 | Q35: 0 | R35: 0 | S35: =1-E35 -> 1
B36: Q2 | C36: Apr, May, Jun | E36: =SUM(P36:R36) -> 0 | F36: 0 | G36: 0 | H36: 0 | I36: 0 | J36: 0 | K36: 0 | L36: 0 | M36: 0 | N36: 0 | O36: 0 | P36: =SUM(F36:O36) -> 0 | Q36: 0 | R36: 0 | S36: =1-E36 -> 1
B37: Q3 | C37: Jul, Aug, Sep | E37: =SUM(P37:R37) -> 0 | F37: 0 | G37: 0 | H37: 0 | I37: 0 | J37: 0 | K37: 0 | L37: 0 | M37: 0 | N37: 0 | O37: 0 | P37: =SUM(F37:O37) -> 0 | Q37: 0 | R37: 0 | S37: =1-E37 -> 1
B38: Q4 | C38: Oct, Nov, Dec | E38: =SUM(P38:R38) -> 0 | F38: 0 | G38: 0 | H38: 0 | I38: 0 | J38: 0 | K38: 0 | L38: 0 | M38: 0 | N38: 0 | O38: 0 | P38: =SUM(F38:O38) -> 0 | Q38: 0 | R38: 0 | S38: =1-E38 -> 1
C39: -------------------------------- | D39: --------------------------- | E39: ----------- | F39: ----------- | G39: ----------- | H39: ----------- | I39: ----------- | J39: ----------- | K39: ----------- | L39: ----------- | M39: ----------- | N39: ----------- | O39: ----------- | P39: ----------- | Q39: ----------- | R39: -----------
D40: Annual: | E40: =AVERAGE(E35:E39) -> 0 | F40: =SUM(F35:F38)/4 -> 0 | G40: =SUM(G35:G38)/4 -> 0 | H40: =SUM(H35:H38)/4 -> 0 | I40: =SUM(I35:I38)/4 -> 0 | J40: =SUM(J35:J38)/4 -> 0 | K40: =SUM(K35:K38)/4 -> 0 | L40: =SUM(L35:L38)/4 -> 0 | M40: =SUM(M35:M38)/4 -> 0 | ... R40: =SUM(R35:R38)/4 -> 0 | S40: =1-SUM(P40:R40) -> 1
B42: ='3 Personnel Expenses'!B18 -> 0 | D42: ='3 Personnel Expenses'!C18 -> 0 | S42: =E42-SUM(Q42:R42)-SUM(F42:L42) -> 0
B43: Q1 | C43: Jan, Feb, Mar | E43: =SUM(P43:R43) -> 0 | F43: 0 | G43: 0 | H43: 0 | I43: 0 | J43: 0 | K43: 0 | L43: 0 | M43: 0 | N43: 0 | O43: 0 | P43: =SUM(F43:O43) -> 0 | Q43: 0 | R43: 0 | S43: =1-E43 -> 1
B44: Q2 | C44: Apr, May, Jun | E44: =SUM(P44:R44) -> 0 | F44: 0 | G44: 0 | H44: 0 | I44: 0 | J44: 0 | K44: 0 | L44: 0 | M44: 0 | N44: 0 | O44: 0 | P44: =SUM(F44:O44) -> 0 | Q44: 0 | R44: 0 | S44: =1-E44 -> 1
B45: Q3 | C45: Jul, Aug, Sep | E45: =SUM(P45:R45) -> 0 | F45: 0 | G45: 0 | H45: 0 | I45: 0 | J45: 0 | K45: 0 | L45: 0 | M45: 0 | N45: 0 | O45: 0 | P45: =SUM(F45:O45) -> 0 | Q45: 0 | R45: 0 | S45: =1-E45 -> 1
B46: Q4 | C46: Oct, Nov, Dec | E46: =SUM(P46:R46) -> 0 | F46: 0 | G46: 0 | H46: 0 | I46: 0 | J46: 0 | K46: 0 | L46: 0 | M46: 0 | N46: 0 | O46: 0 | P46: =SUM(F46:O46) -> 0 | Q46: 0 | R46: 0 | S46: =1-E46 -> 1
...

Sheet 5 Project Specific
A1: Budget - Project Specific
A2: =orgname -> Organization Name | E2: ='1 Names'!G2 -> ver 1: date and initials | P2: printed | Q2: =TODAY() -> 44464 | R2: =NOW() -> 44464.388
A3: =Year -> Fiscal Year ______
A4: Project-specific Expense Detail | D4: Fill in Green Cells Only | S4: Error Checking shows "-" unless error is made/ or formula is changed
D7: memo: | E7: TOTAL | F7: <---------------------------------------------------------- | I7: Projects | J7: ---------------------------------------------------------> | P7: <--------------- | Q7: Functions | R7: --------------->
A8: G/L Acct # | C8: Line Item Definition / Planning | F8: ='1 Names'!E6 -> Program 1 | G8: ='1 Names'!F6 -> Program 2 | H8: ='1 Names'!G6 -> Program 3 | I8: ='1 Names'!H6 -> Program 4 | J8: ='1 Names'!I6 -> Program 5 | K8: ='1 Names'!J6 -> extra 1 | L8: ='1 Names'!K6 -> extra 2 | M8: ='1 Names'!L6 -> extra 3 | ... O8: ='1 Names'!N6 -> extra 5 | P8: Total Program | Q8: ='1 Names'!O6 -> Fund Raising & Unrestricted Income | R8: ='1 Names'!P6 -> Admin (Mgt & Gen) | S8: error checking
B10: ='1 Names'!C27 -> Conferences
C11: sample | E11: =SUM(P11:R11) -> 2000 | F11: 1000 | G11: 1000 | P11: =SUM(F11:O11) -> 2000 | S11: =E11-SUM(Q11:R11)-SUM(F11:L11) -> 0
E12: =SUM(P12:R12) -> 0 | P12: =SUM(F12:O12) -> 0 | S12: =E12-SUM(Q12:R12)-SUM(F12:L12) -> 0
E13: =SUM(P13:R13) -> 0 | P13: =SUM(F13:O13) -> 0 | S13: =E13-SUM(Q13:R13)-SUM(F13:L13) -> 0
E14: =SUM(P14:R14) -> 0 | P14: =SUM(F14:O14) -> 0 | S14: =E14-SUM(Q14:R14)-SUM(F14:L14) -> 0
E15: =SUM(P15:R15) -> 0 | P15: =SUM(F15:O15) -> 0 | S15: =E15-SUM(Q15:R15)-SUM(F15:L15) -> 0
E16: =SUM(P16:R16) -> 0 | P16: =SUM(F16:O16) -> 0 | S16: =E16-SUM(Q16:R16)-SUM(F16:L16) -> 0
E17: =SUM(P17:R17) -> 0 | P17: =SUM(F17:O17) -> 0 | S17: =E17-SUM(Q17:R17)-SUM(F17:L17) -> 0
E18: =SUM(P18:R18) -> 0 | P18: =SUM(F18:O18) -> 0 | S18: =E18-SUM(Q18:R18)-SUM(F18:L18) -> 0
D19: ------------ | E19: ------------ | F19: ------------ | G19: ------------ | H19: ------------ | I19: ------------ | J19: ------------ | K19: ------------ | L19: ------------ | M19: ------------ | N19: ------------ | O19: ------------ | P19: ------------ | Q19: ------------ | R19: ------------
C20: ='1 Names'!C27 -> Conferences | D20: =SUM(D10:D19) -> 0 | E20: =SUM(E10:E19) -> 2000 | F20: =SUM(F10:F19) -> 1000 | G20: =SUM(G10:G19) -> 1000 | H20: =SUM(H10:H19) -> 0 | I20: =SUM(I10:I19) -> 0 | J20: =SUM(J10:J19) -> 0 | K20: =SUM(K10:K19) -> 0 | ... R20: =SUM(R10:R19) -> 0 | S20: =E20-SUM(Q20:R20)-SUM(F20:L20) -> 0
B22: ='1 Names'!C28 -> Travel
E23: =SUM(P23:R23) -> 0 | P23: =SUM(F23:O23) -> 0 | S23: =E23-SUM(Q23:R23)-SUM(F23:L23) -> 0
E24: =SUM(P24:R24) -> 0 | P24: =SUM(F24:O24) -> 0 | S24: =E24-SUM(Q24:R24)-SUM(F24:L24) -> 0
E25: =SUM(P25:R25) -> 0 | P25: =SUM(F25:O25) -> 0 | S25: =E25-SUM(Q25:R25)-SUM(F25:L25) -> 0
E26: =SUM(P26:R26) -> 0 | P26: =SUM(F26:O26) -> 0 | S26: =E26-SUM(Q26:R26)-SUM(F26:L26) -> 0
E27: =SUM(P27:R27) -> 0 | P27: =SUM(F27:O27) -> 0 | S27: =E27-SUM(Q27:R27)-SUM(F27:L27) -> 0
E28: =SUM(P28:R28) -> 0 | P28: =SUM(F28:O28) -> 0 | S28: =E28-SUM(Q28:R28)-SUM(F28:L28) -> 0
E29: =SUM(P29:R29) -> 0 | P29: =SUM(F29:O29) -> 0 | S29: =E29-SUM(Q29:R29)-SUM(F29:L29) -> 0
E30: =SUM(P30:R30) -> 0 | P30: =SUM(F30:O30) -> 0 | S30: =E30-SUM(Q30:R30)-SUM(F30:L30) -> 0
D31: ------------ | E31: ------------ | F31: ------------ | G31: ------------ | H31: ------------ | I31: ------------ | J31: ------------ | K31: ------------ | L31: ------------ | M31: ------------ | N31: ------------ | O31: ------------ | P31: ------------ | Q31: ------------ | R31: ------------
C32: ='1 Names'!C28 -> Travel | D32: =SUM(D22:D31) -> 0 | E32: =SUM(E22:E31) -> 0 | F32: =SUM(F22:F31) -> 0 | G32: =SUM(G22:G31) -> 0 | H32: =SUM(H22:H31) -> 0 | I32: =SUM(I22:I31) -> 0 | J32: =SUM(J22:J31) -> 0 | K32: =SUM(K22:K31) -> 0 | ... R32: =SUM(R22:R31) -> 0 | S32: =E32-SUM(Q32:R32)-SUM(F32:L32) -> 0
B34: ='1 Names'!C29 -> Supplies
E35: =SUM(P35:R35) -> 0 | P35: =SUM(F35:O35) -> 0 | S35: =E35-SUM(Q35:R35)-SUM(F35:L35) -> 0
E36: =SUM(P36:R36) -> 0 | P36: =SUM(F36:O36) -> 0 | S36: =E36-SUM(Q36:R36)-SUM(F36:L36) -> 0
E37: =SUM(P37:R37) -> 0 | P37: =SUM(F37:O37) -> 0 | S37: =E37-SUM(Q37:R37)-SUM(F37:L37) -> 0
E38: =SUM(P38:R38) -> 0 | P38: =SUM(F38:O38) -> 0 | S38: =E38-SUM(Q38:R38)-SUM(F38:L38) -> 0
E39: =SUM(P39:R39) -> 0 | P39: =SUM(F39:O39) -> 0 | S39: =E39-SUM(Q39:R39)-SUM(F39:L39) -> 0
E40: =SUM(P40:R40) -> 0 | P40: =SUM(F40:O40) -> 0 | S40: =E40-SUM(Q40:R40)-SUM(F40:L40) -> 0
E41: =SUM(P41:R41) -> 0 | P41: =SUM(F41:O41) -> 0 | S41: =E41-SUM(Q41:R41)-SUM(F41:L41) -> 0
E42: =SUM(P42:R42) -> 0 | P42: =SUM(F42:O42) -> 0 | S42: =E42-SUM(Q42:R42)-SUM(F42:L42) -> 0
E43: =SUM(P43:R43) -> 0 | P43: =SUM(F43:O43) -> 0 | S43: =E43-SUM(Q43:R43)-SUM(F43:L43) -> 0
E44: =SUM(P44:R44) -> 0 | P44: =SUM(F44:O44) -> 0 | S44: =E44-SUM(Q44:R44)-SUM(F44:L44) -> 0
E45: =SUM(P45:R45) -> 0 | P45: =SUM(F45:O45) -> 0 | S45: =E45-SUM(Q45:R45)-SUM(F45:L45) -> 0
...

Sheet 6 Shared Operating
A1: Budget - Shared Operating
A2: =orgname -> Organization Name | E2: ='1 Names'!G2 -> ver 1: date and initials | P2: printed | Q2: =TODAY() -> 44464 | R2: =NOW() -> 44464.388
A3: =Year -> Fiscal Year ______ | F3: Fill in Green Cells Only
A4: Shared Operating Expense Detail | S4: Error Checking shows "-" unless error is made/ or formula is changed
D7: memo: | E7: TOTAL | F7: <---------------------------------------------------------- | I7: Projects | J7: ---------------------------------------------------------> | P7: <--------------- | Q7: Functions | R7: --------------->
A8: G/L Acct # | C8: Line Item Definition / Planning | F8: ='1 Names'!E6 -> Program 1 | G8: ='1 Names'!F6 -> Program 2 | H8: ='1 Names'!G6 -> Program 3 | I8: ='1 Names'!H6 -> Program 4 | J8: ='1 Names'!I6 -> Program 5 | K8: ='1 Names'!J6 -> extra 1 | L8: ='1 Names'!K6 -> extra 2 | M8: ='1 Names'!L6 -> extra 3 | ... O8: ='1 Names'!N6 -> extra 5 | P8: Total Program | Q8: ='1 Names'!O6 -> Fund Raising & Unrestricted Income | R8: ='1 Names'!P6 -> Admin (Mgt & Gen) | S8: error checking
A10: Shared Cost Allocation rate from Dist FTE's on Program Allocation Sched | E10: =SUM(P10:R10) -> 1 | F10: ='4 Payroll Allocation'!F152 -> 0.25 | G10: ='4 Payroll Allocation'!G152 -> 0.1 | H10: ='4 Payroll Allocation'!H152 -> 0.2 | I10: ='4 Payroll Allocation'!I152 -> 0.25 | J10: ='4 Payroll Allocation'!J152 -> 0.05 | K10: ='4 Payroll Allocation'!K152 -> 0 | L10: ='4 Payroll Allocation'!L152 -> 0 | M10: ='4 Payroll Allocation'!M152 -> 0 | ... O10: ='4 Payroll Allocation'!O152 -> 0 | P10: =SUM(F10:O10) -> 0.85 | Q10: ='4 Payroll Allocation'!Q152 -> 0.1 | R10: ='4 Payroll Allocation'!R152 -> 0.05 | S10: =E10-SUM(Q10:R10)-SUM(F10:L10) -> 0
B12: ='1 Names'!C42 -> Rent
C13: office | D13: 0 | E13: 18000 | F13: =$E13*F$10 -> 4500 | G13: =$E13*G$10 -> 1800 | H13: =$E13*H$10 -> 3600 | I13: =$E13*I$10 -> 4500 | J13: =$E13*J$10 -> 900 | K13: =$E13*K$10 -> 0 | L13: =$E13*L$10 -> 0 | M13: =$E13*M$10 -> 0 | ... O13: =$E13*O$10 -> 0 | P13: =SUM(F13:O13) -> 15300 | Q13: =$E13*Q$10 -> 1800 | R13: =$E13*R$10 -> 900 | S13: =E13-SUM(Q13:R13)-SUM(F13:O13) -> 0
D14: 0 | E14: 0 | F14: =$E14*F$10 -> 0 | G14: =$E14*G$10 -> 0 | H14: =$E14*H$10 -> 0 | I14: =$E14*I$10 -> 0 | J14: =$E14*J$10 -> 0 | K14: =$E14*K$10 -> 0 | L14: =$E14*L$10 -> 0 | M14: =$E14*M$10 -> 0 | ... O14: =$E14*O$10 -> 0 | P14: =SUM(F14:O14) -> 0 | Q14: =$E14*Q$10 -> 0 | R14: =$E14*R$10 -> 0 | S14: =E14-SUM(Q14:R14)-SUM(F14:O14) -> 0
D15: 0 | E15: 0 | F15: =$E15*F$10 -> 0 | G15: =$E15*G$10 -> 0 | H15: =$E15*H$10 -> 0 | I15: =$E15*I$10 -> 0 | J15: =$E15*J$10 -> 0 | K15: =$E15*K$10 -> 0 | L15: =$E15*L$10 -> 0 | M15: =$E15*M$10 -> 0 | ... O15: =$E15*O$10 -> 0 | P15: =SUM(F15:O15) -> 0 | Q15: =$E15*Q$10 -> 0 | R15: =$E15*R$10 -> 0 | S15: =E15-SUM(Q15:R15)-SUM(F15:O15) -> 0
D16: 0 | E16: 0 | F16: =$E16*F$10 -> 0 | G16: =$E16*G$10 -> 0 | H16: =$E16*H$10 -> 0 | I16: =$E16*I$10 -> 0 | J16: =$E16*J$10 -> 0 | K16: =$E16*K$10 -> 0 | L16: =$E16*L$10 -> 0 | M16: =$E16*M$10 -> 0 | ... O16: =$E16*O$10 -> 0 | P16: =SUM(F16:O16) -> 0 | Q16: =$E16*Q$10 -> 0 | R16: =$E16*R$10 -> 0 | S16: =E16-SUM(Q16:R16)-SUM(F16:O16) -> 0
D17: 0 | E17: 0 | F17: =$E17*F$10 -> 0 | G17: =$E17*G$10 -> 0 | H17: =$E17*H$10 -> 0 | I17: =$E17*I$10 -> 0 | J17: =$E17*J$10 -> 0 | K17: =$E17*K$10 -> 0 | L17: =$E17*L$10 -> 0 | M17: =$E17*M$10 -> 0 | ... O17: =$E17*O$10 -> 0 | P17: =SUM(F17:O17) -> 0 | Q17: =$E17*Q$10 -> 0 | R17: =$E17*R$10 -> 0 | S17: =E17-SUM(Q17:R17)-SUM(F17:O17) -> 0
D18: ------------ | E18: ------------ | F18: ------------ | G18: ------------ | H18: ------------ | I18: ------------ | J18: ------------ | K18: ------------ | L18: ------------ | M18: ------------ | N18: ------------ | O18: ------------ | P18: ------------ | Q18: ------------ | R18: ------------
C19: =B12 -> Rent | D19: =SUM(D12:D18) -> 0 | E19: =SUM(E12:E18) -> 18000 | F19: =SUM(F12:F18) -> 4500 | G19: =SUM(G12:G18) -> 1800 | H19: =SUM(H12:H18) -> 3600 | I19: =SUM(I12:I18) -> 4500 | J19: =SUM(J12:J18) -> 900 | K19: =SUM(K12:K18) -> 0 | ... R19: =SUM(R12:R18) -> 900 | S19: =E19-SUM(Q19:R19)-SUM(F19:O19) -> 0
S20: =E20-SUM(Q20:R20)-SUM(F20:O20) -> 0
B21: ='1 Names'!C43 -> Utilities | S21: =E21-SUM(Q21:R21)-SUM(F21:O21) -> 0
D22: 0 | F22: =$E22*F$10 -> 0 | G22: =$E22*G$10 -> 0 | H22: =$E22*H$10 -> 0 | I22: =$E22*I$10 -> 0 | J22: =$E22*J$10 -> 0 | K22: =$E22*K$10 -> 0 | L22: =$E22*L$10 -> 0 | M22: =$E22*M$10 -> 0 | ... O22: =$E22*O$10 -> 0 | P22: =SUM(F22:O22) -> 0 | Q22: =$E22*Q$10 -> 0 | R22: =$E22*R$10 -> 0 | S22: =E22-SUM(Q22:R22)-SUM(F22:O22) -> 0
D23: 0 | F23: =$E23*F$10 -> 0 | G23: =$E23*G$10 -> 0 | H23: =$E23*H$10 -> 0 | I23: =$E23*I$10 -> 0 | J23: =$E23*J$10 -> 0 | K23: =$E23*K$10 -> 0 | L23: =$E23*L$10 -> 0 | M23: =$E23*M$10 -> 0 | ... O23: =$E23*O$10 -> 0 | P23: =SUM(F23:O23) -> 0 | Q23: =$E23*Q$10 -> 0 | R23: =$E23*R$10 -> 0 | S23: =E23-SUM(Q23:R23)-SUM(F23:O23) -> 0
D24: 0 | F24: =$E24*F$10 -> 0 | G24: =$E24*G$10 -> 0 | H24: =$E24*H$10 -> 0 | I24: =$E24*I$10 -> 0 | J24: =$E24*J$10 -> 0 | K24: =$E24*K$10 -> 0 | L24: =$E24*L$10 -> 0 | M24: =$E24*M$10 -> 0 | ... O24: =$E24*O$10 -> 0 | P24: =SUM(F24:O24) -> 0 | Q24: =$E24*Q$10 -> 0 | R24: =$E24*R$10 -> 0 | S24: =E24-SUM(Q24:R24)-SUM(F24:O24) -> 0
D25: 0 | F25: =$E25*F$10 -> 0 | G25: =$E25*G$10 -> 0 | H25: =$E25*H$10 -> 0 | I25: =$E25*I$10 -> 0 | J25: =$E25*J$10 -> 0 | K25: =$E25*K$10 -> 0 | L25: =$E25*L$10 -> 0 | M25: =$E25*M$10 -> 0 | ... O25: =$E25*O$10 -> 0 | P25: =SUM(F25:O25) -> 0 | Q25: =$E25*Q$10 -> 0 | R25: =$E25*R$10 -> 0 | S25: =E25-SUM(Q25:R25)-SUM(F25:O25) -> 0
D26: 0 | E26: 0 | F26: =$E26*F$10 -> 0 | G26: =$E26*G$10 -> 0 | H26: =$E26*H$10 -> 0 | I26: =$E26*I$10 -> 0 | J26: =$E26*J$10 -> 0 | K26: =$E26*K$10 -> 0 | L26: =$E26*L$10 -> 0 | M26: =$E26*M$10 -> 0 | ... O26: =$E26*O$10 -> 0 | P26: =SUM(F26:O26) -> 0 | Q26: =$E26*Q$10 -> 0 | R26: =$E26*R$10 -> 0 | S26: =E26-SUM(Q26:R26)-SUM(F26:O26) -> 0
D27: 0 | E27: 0 | F27: =$E27*F$10 -> 0 | G27: =$E27*G$10 -> 0 | H27: =$E27*H$10 -> 0 | I27: =$E27*I$10 -> 0 | J27: =$E27*J$10 -> 0 | K27: =$E27*K$10 -> 0 | L27: =$E27*L$10 -> 0 | M27: =$E27*M$10 -> 0 | ... O27: =$E27*O$10 -> 0 | P27: =SUM(F27:O27) -> 0 | Q27: =$E27*Q$10 -> 0 | R27: =$E27*R$10 -> 0 | S27: =E27-SUM(Q27:R27)-SUM(F27:O27) -> 0
D28: 0 | E28: 0 | F28: =$E28*F$10 -> 0 | G28: =$E28*G$10 -> 0 | H28: =$E28*H$10 -> 0 | I28: =$E28*I$10 -> 0 | J28: =$E28*J$10 -> 0 | K28: =$E28*K$10 -> 0 | L28: =$E28*L$10 -> 0 | M28: =$E28*M$10 -> 0 | ... O28: =$E28*O$10 -> 0 | P28: =SUM(F28:O28) -> 0 | Q28: =$E28*Q$10 -> 0 | R28: =$E28*R$10 -> 0 | S28: =E28-SUM(Q28:R28)-SUM(F28:O28) -> 0
D29: ------------ | E29: ------------ | F29: ------------ | G29: ------------ | H29: ------------ | I29: ------------ | J29: ------------ | K29: ------------ | L29: ------------ | M29: ------------ | N29: ------------ | O29: ------------ | P29: ------------ | Q29: ------------ | R29: ------------
C30: =B21 -> Utilities | D30: =SUM(D21:D29) -> 0 | E30: =SUM(E21:E29) -> 0 | F30: =SUM(F21:F29) -> 0 | G30: =SUM(G21:G29) -> 0 | H30: =SUM(H21:H29) -> 0 | I30: =SUM(I21:I29) -> 0 | J30: =SUM(J21:J29) -> 0 | K30: =SUM(K21:K29) -> 0 | ... R30: =SUM(R21:R29) -> 0 | S30: =E30-SUM(Q30:R30)-SUM(F30:O30) -> 0
S31: =E31-SUM(Q31:R31)-SUM(F31:O31) -> 0
B32: ='1 Names'!C44 -> Phone | S32: =E32-SUM(Q32:R32)-SUM(F32:O32) -> 0
D33: 0 | F33: =$E33*F$10 -> 0 | G33: =$E33*G$10 -> 0 | H33: =$E33*H$10 -> 0 | I33: =$E33*I$10 -> 0 | J33: =$E33*J$10 -> 0 | K33: =$E33*K$10 -> 0 | L33: =$E33*L$10 -> 0 | M33: =$E33*M$10 -> 0 | ... O33: =$E33*O$10 -> 0 | P33: =SUM(F33:O33) -> 0 | Q33: =$E33*Q$10 -> 0 | R33: =$E33*R$10 -> 0 | S33: =E33-SUM(Q33:R33)-SUM(F33:O33) -> 0
D34: 0 | E34: 0 | F34: =$E34*F$10 -> 0 | G34: =$E34*G$10 -> 0 | H34: =$E34*H$10 -> 0 | I34: =$E34*I$10 -> 0 | J34: =$E34*J$10 -> 0 | K34: =$E34*K$10 -> 0 | L34: =$E34*L$10 -> 0 | M34: =$E34*M$10 -> 0 | ... O34: =$E34*O$10 -> 0 | P34: =SUM(F34:O34) -> 0 | Q34: =$E34*Q$10 -> 0 | R34: =$E34*R$10 -> 0 | S34: =E34-SUM(Q34:R34)-SUM(F34:O34) -> 0
D35: 0 | E35: 0 | F35: =$E35*F$10 -> 0 | G35: =$E35*G$10 -> 0 | H35: =$E35*H$10 -> 0 | I35: =$E35*I$10 -> 0 | J35: =$E35*J$10 -> 0 | K35: =$E35*K$10 -> 0 | L35: =$E35*L$10 -> 0 | M35: =$E35*M$10 -> 0 | ... O35: =$E35*O$10 -> 0 | P35: =SUM(F35:O35) -> 0 | Q35: =$E35*Q$10 -> 0 | R35: =$E35*R$10 -> 0 | S35: =E35-SUM(Q35:R35)-SUM(F35:O35) -> 0
D36: 0 | E36: 0 | F36: =$E36*F$10 -> 0 | G36: =$E36*G$10 -> 0 | H36: =$E36*H$10 -> 0 | I36: =$E36*I$10 -> 0 | J36: =$E36*J$10 -> 0 | K36: =$E36*K$10 -> 0 | L36: =$E36*L$10 -> 0 | M36: =$E36*M$10 -> 0 | ... O36: =$E36*O$10 -> 0 | P36: =SUM(F36:O36) -> 0 | Q36: =$E36*Q$10 -> 0 | R36: =$E36*R$10 -> 0 | S36: =E36-SUM(Q36:R36)-SUM(F36:O36) -> 0
D37: ------------ | E37: ------------ | F37: ------------ | G37: ------------ | H37: ------------ | I37: ------------ | J37: ------------ | K37: ------------ | L37: ------------ | M37: ------------ | N37: ------------ | O37: ------------ | P37: ------------ | Q37: ------------ | R37: ------------
C38: =B32 -> Phone | D38: =SUM(D32:D37) -> 0 | E38: =SUM(E32:E37) -> 0 | F38: =SUM(F32:F37) -> 0 | G38: =SUM(G32:G37) -> 0 | H38: =SUM(H32:H37) -> 0 | I38: =SUM(I32:I37) -> 0 | J38: =SUM(J32:J37) -> 0 | K38: =SUM(K32:K37) -> 0 | ... R38: =SUM(R32:R37) -> 0 | S38: =E38-SUM(Q38:R38)-SUM(F38:O38) -> 0
S39: =E39-SUM(Q39:R39)-SUM(F39:O39) -> 0
B40: ='1 Names'!C45 -> Internet | S40: =E40-SUM(Q40:R40)-SUM(F40:O40) -> 0
D41: 0 | F41: =$E41*F$10 -> 0 | G41: =$E41*G$10 -> 0 | H41: =$E41*H$10 -> 0 | I41: =$E41*I$10 -> 0 | J41: =$E41*J$10 -> 0 | K41: =$E41*K$10 -> 0 | L41: =$E41*L$10 -> 0 | M41: =$E41*M$10 -> 0 | ... O41: =$E41*O$10 -> 0 | P41: =SUM(F41:O41) -> 0 | Q41: =$E41*Q$10 -> 0 | R41: =$E41*R$10 -> 0 | S41: =E41-SUM(Q41:R41)-SUM(F41:O41) -> 0
D42: 0 | F42: =$E42*F$10 -> 0 | G42: =$E42*G$10 -> 0 | H42: =$E42*H$10 -> 0 | I42: =$E42*I$10 -> 0 | J42: =$E42*J$10 -> 0 | K42: =$E42*K$10 -> 0 | L42: =$E42*L$10 -> 0 | M42: =$E42*M$10 -> 0 | ... O42: =$E42*O$10 -> 0 | P42: =SUM(F42:O42) -> 0 | Q42: =$E42*Q$10 -> 0 | R42: =$E42*R$10 -> 0 | S42: =E42-SUM(Q42:R42)-SUM(F42:O42) -> 0
D43: 0 | F43: =$E43*F$10 -> 0 | G43: =$E43*G$10 -> 0 | H43: =$E43*H$10 -> 0 | I43: =$E43*I$10 -> 0 | J43: =$E43*J$10 -> 0 | K43: =$E43*K$10 -> 0 | L43: =$E43*L$10 -> 0 | M43: =$E43*M$10 -> 0 | ... O43: =$E43*O$10 -> 0 | P43: =SUM(F43:O43) -> 0 | Q43: =$E43*Q$10 -> 0 | R43: =$E43*R$10 -> 0 | S43: =E43-SUM(Q43:R43)-SUM(F43:O43) -> 0
D44: 0 | F44: =$E44*F$10 -> 0 | G44: =$E44*G$10 -> 0 | H44: =$E44*H$10 -> 0 | I44: =$E44*I$10 -> 0 | J44: =$E44*J$10 -> 0 | K44: =$E44*K$10 -> 0 | L44: =$E44*L$10 -> 0 | M44: =$E44*M$10 -> 0 | ... O44: =$E44*O$10 -> 0 | P44: =SUM(F44:O44) -> 0 | Q44: =$E44*Q$10 -> 0 | R44: =$E44*R$10 -> 0 | S44: =E44-SUM(Q44:R44)-SUM(F44:O44) -> 0
...
